BEGIN:VCALENDAR
VERSION:2.0
PRODID:-//eventon.com NONSGML v1.0//EN
CALSCALE:GREGORIAN
METHOD:PUBLISH
BEGIN:VEVENT
UID:69e741faaac6c
DTSTAMP:20260421T092306Z
DTSTART:20250131T010000Z
DTEND:20250130T050000Z
LOCATION:
SUMMARY:Harryoke
DESCRIPTION:Harryoke\nhttps://finnsflagler.com/events/karaoke-w-harryoke/
URL:https://finnsflagler.com/events/karaoke-w-harryoke/
END:VEVENT
END:VCALENDAR