BEGIN:VCALENDAR
VERSION:2.0
PRODID:-//eventon.com NONSGML v1.0//EN
CALSCALE:GREGORIAN
METHOD:PUBLISH
BEGIN:VEVENT
UID:69ea2e8a1cb68
DTSTAMP:20260423T143658Z
DTSTART:20260426T170000Z
DTEND:20260426T210000Z
LOCATION:
SUMMARY:Old School Bandits
DESCRIPTION:\nhttps://finnsflagler.com/events/sydney-shae/
URL:https://finnsflagler.com/events/sydney-shae/
END:VEVENT
END:VCALENDAR