BEGIN:VCALENDAR
VERSION:2.0
PRODID:-//eventon.com NONSGML v1.0//EN
CALSCALE:GREGORIAN
METHOD:PUBLISH
BEGIN:VEVENT
UID:69ea2dbe81c7f
DTSTAMP:20260423T143334Z
DTSTART:20260425T170000Z
DTEND:20260425T210000Z
LOCATION:
SUMMARY:Hi-Lo Theory
DESCRIPTION:\nhttps://finnsflagler.com/events/the-click-2/
URL:https://finnsflagler.com/events/the-click-2/
END:VEVENT
END:VCALENDAR