BEGIN:VCALENDAR
VERSION:2.0
PRODID:-//eventon.com NONSGML v1.0//EN
CALSCALE:GREGORIAN
METHOD:PUBLISH
BEGIN:VEVENT
UID:69ea2e70f2a69
DTSTAMP:20260423T143632Z
DTSTART:20260425T003000Z
DTEND:20260424T040000Z
LOCATION:
SUMMARY:Dj Johhny Keys
DESCRIPTION:Screenshot\nhttps://finnsflagler.com/events/chillula/
URL:https://finnsflagler.com/events/chillula/
END:VEVENT
END:VCALENDAR