BEGIN:VCALENDAR
VERSION:2.0
PRODID:-//eventon.com NONSGML v1.0//EN
CALSCALE:GREGORIAN
METHOD:PUBLISH
BEGIN:VEVENT
UID:69ea2df1724cb
DTSTAMP:20260423T143425Z
DTSTART:20260426T003000Z
DTEND:20260425T160000Z
LOCATION:
SUMMARY:Sesame Plexer
DESCRIPTION:\nhttps://finnsflagler.com/events/finns-fest-3/
URL:https://finnsflagler.com/events/finns-fest-3/
END:VEVENT
END:VCALENDAR